BEGIN:VCALENDAR
VERSION:2.0
PRODID:-//Plone.org//NONSGML plone.app.event//EN
X-WR-TIMEZONE:Europe/Madrid
BEGIN:VEVENT
SUMMARY:Santander X Tomorrow Challenge
DTSTART;TZID=Europe/Madrid:20200528T130000
DTEND;TZID=Europe/Madrid:20200702T140000
DTSTAMP:20260419T184607Z
UID:8b539551a47d42388bfff9fcafb4d665@www.epsevg.upc.edu
CONTACT:https://www.santanderx.com/workgroups/santander-x-tomorrow-challen
 ge/5eb969f3a0777a001345dac1
CREATED:20200528T113500Z
LAST-MODIFIED:20200528T113505Z
URL:https://epsevg.upc.edu/ca/esdeveniments/santander-x-tomorrow-challenge
END:VEVENT
BEGIN:VTIMEZONE
TZID:Europe/Madrid
X-LIC-LOCATION:Europe/Madrid
BEGIN:DAYLIGHT
DTSTART:20200329T030000
TZNAME:CEST
TZOFFSETFROM:+0100
TZOFFSETTO:+0200
END:DAYLIGHT
END:VTIMEZONE
END:VCALENDAR
