BEGIN:VCALENDAR
VERSION:2.0
PRODID:-//Plone.org//NONSGML plone.app.event//EN
X-WR-TIMEZONE:Europe/Madrid
BEGIN:VEVENT
SUMMARY:Face to Face
DTSTART;TZID=Europe/Madrid:20220504T090000
DTEND;TZID=Europe/Madrid:20220504T140000
DTSTAMP:20260424T221616Z
UID:54919b7727c947d4858bc387f15d692c@www.epsevg.upc.edu
CONTACT:https://www.epsevg.upc.edu/ca/actes/face2face
CREATED:20220503T072259Z
LAST-MODIFIED:20220503T072311Z
LOCATION:Biblioteca UPC Vilanova
URL:https://epsevg.upc.edu/ca/esdeveniments/face-to-face-1
END:VEVENT
BEGIN:VTIMEZONE
TZID:Europe/Madrid
X-LIC-LOCATION:Europe/Madrid
BEGIN:DAYLIGHT
DTSTART:20220327T030000
TZNAME:CEST
TZOFFSETFROM:+0100
TZOFFSETTO:+0200
END:DAYLIGHT
END:VTIMEZONE
END:VCALENDAR
