BEGIN:VCALENDAR
VERSION:2.0
PRODID:-//Plone.org//NONSGML plone.app.event//EN
X-WR-TIMEZONE:Europe/Madrid
BEGIN:VEVENT
SUMMARY:Convocatòria de mobilitat docent
DTSTART;TZID=Europe/Madrid:20220513T110000
DTEND;TZID=Europe/Madrid:20220603T120000
DTSTAMP:20260424T194858Z
UID:9bf9bf961af649cea0c0b47a09a53075@www.epsevg.upc.edu
CONTACT:https://www.upc.edu/sri/ca/estudiantat/mobilitat-pdi/personal-upc/
 beques-ka131-ka103-europa/copia
CREATED:20220513T093245Z
LAST-MODIFIED:20220513T093251Z
URL:https://epsevg.upc.edu/ca/esdeveniments/convocatoria-de-mobilitat-doce
 nt
END:VEVENT
BEGIN:VTIMEZONE
TZID:Europe/Madrid
X-LIC-LOCATION:Europe/Madrid
BEGIN:DAYLIGHT
DTSTART:20220327T030000
TZNAME:CEST
TZOFFSETFROM:+0100
TZOFFSETTO:+0200
END:DAYLIGHT
END:VTIMEZONE
END:VCALENDAR
