BEGIN:VCALENDAR
VERSION:2.0
PRODID:-//Plone.org//NONSGML plone.app.event//EN
X-WR-TIMEZONE:Europe/Madrid
BEGIN:VEVENT
SUMMARY:Concurs de la postal Nadalenca de l'EPSEVG
DTSTART;TZID=Europe/Madrid:20181214T120000
DTEND;TZID=Europe/Madrid:20181214T120000
DTSTAMP:20260424T155611Z
UID:7d3b179b355b47b49455e0363dbe4225@www.epsevg.upc.edu
CREATED:20181205T132340Z
LAST-MODIFIED:20181205T132346Z
URL:https://epsevg.upc.edu/ca/esdeveniments/concurs-de-la-postal-nadalenca
 -de-lepsevg
END:VEVENT
BEGIN:VTIMEZONE
TZID:Europe/Madrid
X-LIC-LOCATION:Europe/Madrid
BEGIN:STANDARD
DTSTART:20181028T020000
TZNAME:CET
TZOFFSETFROM:+0200
TZOFFSETTO:+0100
END:STANDARD
END:VTIMEZONE
END:VCALENDAR
